BEGIN:VCALENDAR
VERSION:2.0
PRODID:-//85.13.147.204//NONSGML kigkonsult.se iCalcreator 2.20//
CALSCALE:GREGORIAN
METHOD:PUBLISH
X-WR-TIMEZONE:UTC
BEGIN:VEVENT
UID:event7@..:: Viertelpoet ::: rockig-frech lyrisch-liedhaft ::..
DTSTAMP:20260419T194748Z
CATEGORIES:Konzert
DESCRIPTION:Barockig-frech und lyrisch-liedhaft in den Mauern der Neuen Res
 idenz zu Halle\nKategorie: Konzert\nICS-Link: https://www.www.viertelpoet.
 de/index.php?option=com_jem&view=event&id=7:barockig-frech-und-lyrisch-lie
 dhaft-in-den-mauern-der-neuen-residenz-zu-halle\n
DTSTART:20090612T200000Z
DTEND:20090612T220000Z
LOCATION:Neue Residenz\,Domstraße 5\,06108 Halle\,Germany
SUMMARY:Barockig-frech und lyrisch-liedhaft in den Mauern der Neuen Residen
 z zu Halle
URL:https://www.www.viertelpoet.de/index.php?option=com_jem&view=event&id=7
 :barockig-frech-und-lyrisch-liedhaft-in-den-mauern-der-neuen-residenz-zu-h
 alle
END:VEVENT
BEGIN:VEVENT
UID:event24@..:: Viertelpoet ::: rockig-frech lyrisch-liedhaft ::..
DTSTAMP:20260419T194748Z
CATEGORIES:Konzert
DESCRIPTION:Viertelpoet in der Neuen Residenz\nKategorie: Konzert\nICS-Link
 : https://www.www.viertelpoet.de/index.php?option=com_jem&view=event&id=24
 :viertelpoet-in-der-neuen-residenz\n
DTSTART:20100619T200000Z
DTEND:20100619T200000Z
LOCATION:Neue Residenz\,Domstraße 5\,06108 Halle\,Germany
SUMMARY:Viertelpoet in der Neuen Residenz
URL:https://www.www.viertelpoet.de/index.php?option=com_jem&view=event&id=2
 4:viertelpoet-in-der-neuen-residenz
END:VEVENT
BEGIN:VEVENT
UID:event26@..:: Viertelpoet ::: rockig-frech lyrisch-liedhaft ::..
DTSTAMP:20260419T194748Z
CATEGORIES:Konzert
DESCRIPTION:Viertelpoet in der Neuen Residenz\nKategorie: Konzert\nICS-Link
 : https://www.www.viertelpoet.de/index.php?option=com_jem&view=event&id=26
 :viertelpoet-in-der-neuen-residenz\n
DTSTART:20100724T200000Z
DTEND:20100724T200000Z
LOCATION:Neue Residenz\,Domstraße 5\,06108 Halle\,Germany
SUMMARY:Viertelpoet in der Neuen Residenz
URL:https://www.www.viertelpoet.de/index.php?option=com_jem&view=event&id=2
 6:viertelpoet-in-der-neuen-residenz
END:VEVENT
BEGIN:VEVENT
UID:event36@..:: Viertelpoet ::: rockig-frech lyrisch-liedhaft ::..
DTSTAMP:20260419T194748Z
CATEGORIES:Konzert
DESCRIPTION:Viertelpoet im Rosengarten\nKategorie: Konzert\nICS-Link: https
 ://www.www.viertelpoet.de/index.php?option=com_jem&view=event&id=36:vierte
 lpoet-im-rosengarten\n
DTSTART:20110624T200000Z
DTEND:20110624T200000Z
LOCATION:Neue Residenz\,Domstraße 5\,06108 Halle\,Germany
SUMMARY:Viertelpoet im Rosengarten
URL:https://www.www.viertelpoet.de/index.php?option=com_jem&view=event&id=3
 6:viertelpoet-im-rosengarten
END:VEVENT
BEGIN:VEVENT
UID:event40@..:: Viertelpoet ::: rockig-frech lyrisch-liedhaft ::..
DTSTAMP:20260419T194748Z
CATEGORIES:Konzert
DESCRIPTION:FÄLLT AUS: Viertelpoet in der Neuen Residenz\nKategorie: Konzer
 t\nICS-Link: https://www.www.viertelpoet.de/index.php?option=com_jem&view=
 event&id=40:viertelpoet-in-der-neuen-residenz\n
DTSTART:20110916T193000Z
DTEND:20110916T193000Z
LOCATION:Neue Residenz\,Domstraße 5\,06108 Halle\,Germany
SUMMARY:FÄLLT AUS: Viertelpoet in der Neuen Residenz
URL:https://www.www.viertelpoet.de/index.php?option=com_jem&view=event&id=4
 0:viertelpoet-in-der-neuen-residenz
END:VEVENT
BEGIN:VEVENT
UID:event48@..:: Viertelpoet ::: rockig-frech lyrisch-liedhaft ::..
DTSTAMP:20260419T194748Z
CATEGORIES:Konzert
DESCRIPTION:Viertelpoet in der Neuen Residenz\nKategorie: Konzert\nICS-Link
 : https://www.www.viertelpoet.de/index.php?option=com_jem&view=event&id=48
 :viertelpoet-in-der-neuen-residenz\n
DTSTART:20120615T193000Z
DTEND:20120615T193000Z
LOCATION:Neue Residenz\,Domstraße 5\,06108 Halle\,Germany
SUMMARY:Viertelpoet in der Neuen Residenz
URL:https://www.www.viertelpoet.de/index.php?option=com_jem&view=event&id=4
 8:viertelpoet-in-der-neuen-residenz
END:VEVENT
BEGIN:VEVENT
UID:event65@..:: Viertelpoet ::: rockig-frech lyrisch-liedhaft ::..
DTSTAMP:20260419T194748Z
CATEGORIES:Konzert
DESCRIPTION:Mixed in concert (Viertelpoet und St. Briccius- Chor)\nKategori
 e: Konzert\nICS-Link: https://www.www.viertelpoet.de/index.php?option=com_
 jem&view=event&id=65:viertelpoet-in-der-neuen-residenz\n
DTSTART:20130709T190000Z
DTEND:20130709T190000Z
LOCATION:Neue Residenz\,Domstraße 5\,06108 Halle\,Germany
SUMMARY:Mixed in concert (Viertelpoet und St. Briccius- Chor)
URL:https://www.www.viertelpoet.de/index.php?option=com_jem&view=event&id=6
 5:viertelpoet-in-der-neuen-residenz
END:VEVENT
BEGIN:VEVENT
UID:event77@..:: Viertelpoet ::: rockig-frech lyrisch-liedhaft ::..
DTSTAMP:20260419T194748Z
CATEGORIES:Konzert
DESCRIPTION:Viertelpoet und der Lustgarten der Neuen Residenz\nKategorie: K
 onzert\nICS-Link: https://www.www.viertelpoet.de/index.php?option=com_jem&
 view=event&id=77:viertelpoet-in-der-neuen-residenz\n
DTSTART:20140626T190000Z
DTEND:20140626T190000Z
LOCATION:Neue Residenz\,Domstraße 5\,06108 Halle\,Germany
SUMMARY:Viertelpoet und der Lustgarten der Neuen Residenz
URL:https://www.www.viertelpoet.de/index.php?option=com_jem&view=event&id=7
 7:viertelpoet-in-der-neuen-residenz
END:VEVENT
BEGIN:VEVENT
UID:event91@..:: Viertelpoet ::: rockig-frech lyrisch-liedhaft ::..
DTSTAMP:20260419T194748Z
CATEGORIES:Konzert
DESCRIPTION:Viertelpoet im Sonnengarten - Stadtvierteltour: INKLUSIVE!\nKat
 egorie: Konzert\nICS-Link: https://www.www.viertelpoet.de/index.php?option
 =com_jem&view=event&id=91:viertelpoet-im-sonnengarten\n
DTSTART:20150626T180000Z
DTEND:20150626T180000Z
LOCATION:Neue Residenz\,Domstraße 5\,06108 Halle\,Germany
SUMMARY:Viertelpoet im Sonnengarten - Stadtvierteltour: INKLUSIVE!
URL:https://www.www.viertelpoet.de/index.php?option=com_jem&view=event&id=9
 1:viertelpoet-im-sonnengarten
END:VEVENT
BEGIN:VEVENT
UID:event104@..:: Viertelpoet ::: rockig-frech lyrisch-liedhaft ::..
DTSTAMP:20260419T194748Z
CATEGORIES:Konzert
DESCRIPTION:Stadtvierteltour INKLUSIVE\nKategorie: Konzert\nICS-Link: https
 ://www.www.viertelpoet.de/index.php?option=com_jem&view=event&id=104:stadt
 vierteltour-inklusive\n
DTSTART:20160611T153000Z
DTEND:20160611T153000Z
LOCATION:Neue Residenz\,Domstraße 5\,06108 Halle\,Germany
SUMMARY:Stadtvierteltour INKLUSIVE
URL:https://www.www.viertelpoet.de/index.php?option=com_jem&view=event&id=1
 04:stadtvierteltour-inklusive
END:VEVENT
BEGIN:VEVENT
UID:event78@..:: Viertelpoet ::: rockig-frech lyrisch-liedhaft ::..
DTSTAMP:20260419T194748Z
CATEGORIES:Konzert
DESCRIPTION:Viertelpoet im Traumgarten\nKategorie: Konzert\nICS-Link: https
 ://www.www.viertelpoet.de/index.php?option=com_jem&view=event&id=78:vierte
 lpoet-im-traumgarten\n
DTSTART:20180629T183000Z
DTEND:20180629T183000Z
LOCATION:Neue Residenz\,Domstraße 5\,06108 Halle\,Germany
SUMMARY:Viertelpoet im Traumgarten
URL:https://www.www.viertelpoet.de/index.php?option=com_jem&view=event&id=7
 8:viertelpoet-im-traumgarten
END:VEVENT
BEGIN:VEVENT
UID:event126@..:: Viertelpoet ::: rockig-frech lyrisch-liedhaft ::..
DTSTAMP:20260419T194748Z
CATEGORIES:Konzert
DESCRIPTION:Notprogramm - Benefiz- und Dankeschönkonzert\nKategorie: Konzer
 t\nICS-Link: https://www.www.viertelpoet.de/index.php?option=com_jem&view=
 event&id=126:notprogramm-benefiz-und-dankeschoenkonzert\n
DTSTART:20230602T170000Z
DTEND:20230602T170000Z
LOCATION:Neue Residenz\,Domstraße 5\,06108 Halle\,Germany
SUMMARY:Notprogramm - Benefiz- und Dankeschönkonzert
URL:https://www.www.viertelpoet.de/index.php?option=com_jem&view=event&id=1
 26:notprogramm-benefiz-und-dankeschoenkonzert
END:VEVENT
END:VCALENDAR
