BEGIN:VCALENDAR
VERSION:2.0
PRODID:-//85.13.147.204//NONSGML kigkonsult.se iCalcreator 2.20//
CALSCALE:GREGORIAN
METHOD:PUBLISH
X-WR-TIMEZONE:UTC
BEGIN:VEVENT
UID:event9@..:: Viertelpoet ::: rockig-frech lyrisch-liedhaft ::..
DTSTAMP:20260421T093603Z
CATEGORIES:Konzert
DESCRIPTION:Viertelpoet CD-Vorstellung im Saline Museum\nKategorie: Konzert
 \nICS-Link: https://www.www.viertelpoet.de/index.php?option=com_jem&view=e
 vent&id=9:viertelpoet-cd-vorstellung-im-saline-museum\n
DTSTART:20090402T190000Z
DTEND:20090402T190000Z
LOCATION:Saline Museum\,Mansfelder Straße 52\,06108 Halle\,Germany
SUMMARY:Viertelpoet CD-Vorstellung im Saline Museum
URL:https://www.www.viertelpoet.de/index.php?option=com_jem&view=event&id=9
 :viertelpoet-cd-vorstellung-im-saline-museum
END:VEVENT
BEGIN:VEVENT
UID:event17@..:: Viertelpoet ::: rockig-frech lyrisch-liedhaft ::..
DTSTAMP:20260421T093603Z
CATEGORIES:Konzert
DESCRIPTION:Eröffnung des Salinefestes\nKategorie: Konzert\nICS-Link: https
 ://www.www.viertelpoet.de/index.php?option=com_jem&view=event&id=17:vierte
 lpoet-im-saline-museum\n
DTSTART:20090925T190000Z
DTEND:20090925T190000Z
LOCATION:Saline Museum\,Mansfelder Straße 52\,06108 Halle\,Germany
SUMMARY:Eröffnung des Salinefestes
URL:https://www.www.viertelpoet.de/index.php?option=com_jem&view=event&id=1
 7:viertelpoet-im-saline-museum
END:VEVENT
BEGIN:VEVENT
UID:event29@..:: Viertelpoet ::: rockig-frech lyrisch-liedhaft ::..
DTSTAMP:20260421T093603Z
CATEGORIES:Konzert
DESCRIPTION:Viertelpoet in der Saline\nKategorie: Konzert\nICS-Link: https:
 //www.www.viertelpoet.de/index.php?option=com_jem&view=event&id=29:viertel
 poet-in-der-saline\n
DTSTART:20110503T170000Z
DTEND:20110503T170000Z
LOCATION:Saline Museum\,Mansfelder Straße 52\,06108 Halle\,Germany
SUMMARY:Viertelpoet in der Saline
URL:https://www.www.viertelpoet.de/index.php?option=com_jem&view=event&id=2
 9:viertelpoet-in-der-saline
END:VEVENT
BEGIN:VEVENT
UID:event33@..:: Viertelpoet ::: rockig-frech lyrisch-liedhaft ::..
DTSTAMP:20260421T093603Z
CATEGORIES:Konzert
DESCRIPTION:Viertelpoet in der Saline\nKategorie: Konzert\nICS-Link: https:
 //www.www.viertelpoet.de/index.php?option=com_jem&view=event&id=33:viertel
 poet-in-der-saline\n
DTSTART:20110507T180000Z
DTEND:20110507T180000Z
LOCATION:Saline Museum\,Mansfelder Straße 52\,06108 Halle\,Germany
SUMMARY:Viertelpoet in der Saline
URL:https://www.www.viertelpoet.de/index.php?option=com_jem&view=event&id=3
 3:viertelpoet-in-der-saline
END:VEVENT
BEGIN:VEVENT
UID:event37@..:: Viertelpoet ::: rockig-frech lyrisch-liedhaft ::..
DTSTAMP:20260421T093603Z
CATEGORIES:Konzert
DESCRIPTION:Salzfest mit Viertelpoet\nKategorie: Konzert\nICS-Link: https:/
 /www.www.viertelpoet.de/index.php?option=com_jem&view=event&id=37:salzfest
 -mit-viertelpoet\n
DTSTART:20110924T120000Z
DTEND:20110924T170000Z
LOCATION:Saline Museum\,Mansfelder Straße 52\,06108 Halle\,Germany
SUMMARY:Salzfest mit Viertelpoet
URL:https://www.www.viertelpoet.de/index.php?option=com_jem&view=event&id=3
 7:salzfest-mit-viertelpoet
END:VEVENT
BEGIN:VEVENT
UID:event38@..:: Viertelpoet ::: rockig-frech lyrisch-liedhaft ::..
DTSTAMP:20260421T093603Z
CATEGORIES:Konzert
DESCRIPTION:Salzfest mit Viertelpoet\nKategorie: Konzert\nICS-Link: https:/
 /www.www.viertelpoet.de/index.php?option=com_jem&view=event&id=38:salzfest
 -mit-viertelpoet\n
DTSTART:20110925T120000Z
DTEND:20110925T170000Z
LOCATION:Saline Museum\,Mansfelder Straße 52\,06108 Halle\,Germany
SUMMARY:Salzfest mit Viertelpoet
URL:https://www.www.viertelpoet.de/index.php?option=com_jem&view=event&id=3
 8:salzfest-mit-viertelpoet
END:VEVENT
BEGIN:VEVENT
UID:event30@..:: Viertelpoet ::: rockig-frech lyrisch-liedhaft ::..
DTSTAMP:20260421T093603Z
CATEGORIES:Konzert
DESCRIPTION:Viertelpoet in der Saline\nKategorie: Konzert\nICS-Link: https:
 //www.www.viertelpoet.de/index.php?option=com_jem&view=event&id=30:viertel
 poet-in-der-saline\n
DTSTART:20111103T200000Z
DTEND:20111103T200000Z
LOCATION:Saline Museum\,Mansfelder Straße 52\,06108 Halle\,Germany
SUMMARY:Viertelpoet in der Saline
URL:https://www.www.viertelpoet.de/index.php?option=com_jem&view=event&id=3
 0:viertelpoet-in-der-saline
END:VEVENT
BEGIN:VEVENT
UID:event46@..:: Viertelpoet ::: rockig-frech lyrisch-liedhaft ::..
DTSTAMP:20260421T093603Z
CATEGORIES:Konzert
DESCRIPTION:Viertelpoet in der Saline\nKategorie: Konzert\nICS-Link: https:
 //www.www.viertelpoet.de/index.php?option=com_jem&view=event&id=46:viertel
 poet-in-der-saline\n
DTSTART:20120505T180000Z
DTEND:20120505T180000Z
LOCATION:Saline Museum\,Mansfelder Straße 52\,06108 Halle\,Germany
SUMMARY:Viertelpoet in der Saline
URL:https://www.www.viertelpoet.de/index.php?option=com_jem&view=event&id=4
 6:viertelpoet-in-der-saline
END:VEVENT
BEGIN:VEVENT
UID:event52@..:: Viertelpoet ::: rockig-frech lyrisch-liedhaft ::..
DTSTAMP:20260421T093603Z
CATEGORIES:Konzert
DESCRIPTION:Salzfest mit Viertelpoet\nKategorie: Konzert\nICS-Link: https:/
 /www.www.viertelpoet.de/index.php?option=com_jem&view=event&id=52:salzfest
 -mit-viertelpoet\n
DTSTART:20120922T110000Z
DTEND:20120922T170000Z
LOCATION:Saline Museum\,Mansfelder Straße 52\,06108 Halle\,Germany
SUMMARY:Salzfest mit Viertelpoet
URL:https://www.www.viertelpoet.de/index.php?option=com_jem&view=event&id=5
 2:salzfest-mit-viertelpoet
END:VEVENT
BEGIN:VEVENT
UID:event58@..:: Viertelpoet ::: rockig-frech lyrisch-liedhaft ::..
DTSTAMP:20260421T093603Z
CATEGORIES:Konzert
DESCRIPTION:Business-Talk in der Saline\nKategorie: Konzert\nICS-Link: http
 s://www.www.viertelpoet.de/index.php?option=com_jem&view=event&id=58:busin
 ess-talk-in-der-saline\n
DTSTART:20121121T150000Z
DTEND:20121121T173000Z
LOCATION:Saline Museum\,Mansfelder Straße 52\,06108 Halle\,Germany
SUMMARY:Business-Talk in der Saline
URL:https://www.www.viertelpoet.de/index.php?option=com_jem&view=event&id=5
 8:business-talk-in-der-saline
END:VEVENT
BEGIN:VEVENT
UID:event79@..:: Viertelpoet ::: rockig-frech lyrisch-liedhaft ::..
DTSTAMP:20260421T093603Z
CATEGORIES:Konzert
DESCRIPTION:Abschlussveranstaltung Freiwilligentag\nKategorie: Konzert\nICS
 -Link: https://www.www.viertelpoet.de/index.php?option=com_jem&view=event&
 id=79:abschlussveranstaltung-freiwilligentag\n
DTSTART:20140913T190000Z
DTEND:20140913T190000Z
LOCATION:Saline Museum\,Mansfelder Straße 52\,06108 Halle\,Germany
SUMMARY:Abschlussveranstaltung Freiwilligentag
URL:https://www.www.viertelpoet.de/index.php?option=com_jem&view=event&id=7
 9:abschlussveranstaltung-freiwilligentag
END:VEVENT
END:VCALENDAR
