BEGIN:VCALENDAR
VERSION:2.0
PRODID:-//85.13.147.204//NONSGML kigkonsult.se iCalcreator 2.20//
CALSCALE:GREGORIAN
METHOD:PUBLISH
X-WR-TIMEZONE:UTC
BEGIN:VEVENT
UID:event131@..:: Viertelpoet ::: rockig-frech lyrisch-liedhaft ::..
DTSTAMP:20260419T164548Z
CATEGORIES:Konzert
DESCRIPTION:Laternenfest 2025\nKategorie: Konzert\nICS-Link: https://www.ww
 w.viertelpoet.de/index.php?option=com_jem&view=event&id=131:laternenfest-2
 025\n
DTSTART:20250830T192100Z
DTEND:20250830T192100Z
LOCATION:Elfengrund am Riveufer\,Riveufer 10\,06114 Halle\,Germany
SUMMARY:Laternenfest 2025
URL:https://www.www.viertelpoet.de/index.php?option=com_jem&view=event&id=1
 31:laternenfest-2025
END:VEVENT
END:VCALENDAR
