BEGIN:VCALENDAR
VERSION:2.0
PRODID:-//85.13.147.204//NONSGML kigkonsult.se iCalcreator 2.20//
CALSCALE:GREGORIAN
METHOD:PUBLISH
X-WR-TIMEZONE:UTC
BEGIN:VEVENT
UID:event8@..:: Viertelpoet ::: rockig-frech lyrisch-liedhaft ::..
DTSTAMP:20260419T182445Z
CATEGORIES:Konzert
DESCRIPTION:Viertelpoet-CD-Release in der Villa del Vino!\nKategorie: Konze
 rt\nICS-Link: https://www.www.viertelpoet.de/index.php?option=com_jem&view
 =event&id=8:viertelpoet-cd-release-in-der-villa-del-vino\n
DTSTART:20090303T190000Z
DTEND:20090303T190000Z
LOCATION:Villa del Vino\,Ankerstraße 15\,06108 Halle\,Germany
SUMMARY:Viertelpoet-CD-Release in der Villa del Vino!
URL:https://www.www.viertelpoet.de/index.php?option=com_jem&view=event&id=8
 :viertelpoet-cd-release-in-der-villa-del-vino
END:VEVENT
BEGIN:VEVENT
UID:event11@..:: Viertelpoet ::: rockig-frech lyrisch-liedhaft ::..
DTSTAMP:20260419T182445Z
CATEGORIES:Konzert
DESCRIPTION:Viertelpoetisches in der Villa del Vino\nKategorie: Konzert\nIC
 S-Link: https://www.www.viertelpoet.de/index.php?option=com_jem&view=event
 &id=11:viertelpoetisches-in-der-villa-del-vino\n
DTSTART:20090505T190000Z
DTEND:20090505T190000Z
LOCATION:Villa del Vino\,Ankerstraße 15\,06108 Halle\,Germany
SUMMARY:Viertelpoetisches in der Villa del Vino
URL:https://www.www.viertelpoet.de/index.php?option=com_jem&view=event&id=1
 1:viertelpoetisches-in-der-villa-del-vino
END:VEVENT
BEGIN:VEVENT
UID:event27@..:: Viertelpoet ::: rockig-frech lyrisch-liedhaft ::..
DTSTAMP:20260419T182445Z
CATEGORIES:Konzert
DESCRIPTION:Viertelpoet rockt den Frühling\nKategorie: Konzert\nICS-Link: h
 ttps://www.www.viertelpoet.de/index.php?option=com_jem&view=event&id=27:vi
 ertelpoet-rockt-den-fruehling\n
DTSTART:20110501T110000Z
DTEND:20110501T110000Z
LOCATION:Villa del Vino\,Ankerstraße 15\,06108 Halle\,Germany
SUMMARY:Viertelpoet rockt den Frühling
URL:https://www.www.viertelpoet.de/index.php?option=com_jem&view=event&id=2
 7:viertelpoet-rockt-den-fruehling
END:VEVENT
BEGIN:VEVENT
UID:event54@..:: Viertelpoet ::: rockig-frech lyrisch-liedhaft ::..
DTSTAMP:20260419T182445Z
CATEGORIES:Konzert
DESCRIPTION:Viertelpoet in der Villa del Vino\nKategorie: Konzert\nICS-Link
 : https://www.www.viertelpoet.de/index.php?option=com_jem&view=event&id=54
 :viertelpoet-im-buch-und-kunsthaus-cornelius\n
DTSTART:20121106T193000Z
DTEND:20121106T193000Z
LOCATION:Villa del Vino\,Ankerstraße 15\,06108 Halle\,Germany
SUMMARY:Viertelpoet in der Villa del Vino
URL:https://www.www.viertelpoet.de/index.php?option=com_jem&view=event&id=5
 4:viertelpoet-im-buch-und-kunsthaus-cornelius
END:VEVENT
BEGIN:VEVENT
UID:event85@..:: Viertelpoet ::: rockig-frech lyrisch-liedhaft ::..
DTSTAMP:20260419T182445Z
CATEGORIES:Konzert
DESCRIPTION:Seltsam sprachlos - Tour\nKategorie: Konzert\nICS-Link: https:/
 /www.www.viertelpoet.de/index.php?option=com_jem&view=event&id=85:seltsam-
 sprachlos-tour\n
DTSTART:20150418T193000Z
DTEND:20150418T193000Z
LOCATION:Villa del Vino\,Ankerstraße 15\,06108 Halle\,Germany
SUMMARY:Seltsam sprachlos - Tour
URL:https://www.www.viertelpoet.de/index.php?option=com_jem&view=event&id=8
 5:seltsam-sprachlos-tour
END:VEVENT
END:VCALENDAR
