BEGIN:VCALENDAR
VERSION:2.0
PRODID:-//85.13.147.204//NONSGML kigkonsult.se iCalcreator 2.20//
CALSCALE:GREGORIAN
METHOD:PUBLISH
X-WR-TIMEZONE:UTC
BEGIN:VEVENT
UID:event99@..:: Viertelpoet ::: rockig-frech lyrisch-liedhaft ::..
DTSTAMP:20260419T145823Z
CATEGORIES:Konzert
DESCRIPTION:Seltsam sprachlos - Tour\nKategorie: Konzert\nICS-Link: https:/
 /www.www.viertelpoet.de/index.php?option=com_jem&view=event&id=99:leise-to
 ur\n
DTSTART:20160219T193000Z
DTEND:20160219T193000Z
LOCATION:Musikhaus Polyhymnia\,Scharrenstraße 1\,06108 Halle\,Germany
SUMMARY:Seltsam sprachlos - Tour
URL:https://www.www.viertelpoet.de/index.php?option=com_jem&view=event&id=9
 9:leise-tour
END:VEVENT
END:VCALENDAR
