BEGIN:VCALENDAR
VERSION:2.0
PRODID:-//85.13.147.204//NONSGML kigkonsult.se iCalcreator 2.20//
CALSCALE:GREGORIAN
METHOD:PUBLISH
X-WR-TIMEZONE:UTC
BEGIN:VEVENT
UID:event68@..:: Viertelpoet ::: rockig-frech lyrisch-liedhaft ::..
DTSTAMP:20260421T081052Z
CATEGORIES:Konzert
DESCRIPTION:Hofkonzert\nKategorie: Konzert\nICS-Link: https://www.www.viert
 elpoet.de/index.php?option=com_jem&view=event&id=68:hofkonzert\n
DTSTART:20130914T200000Z
DTEND:20130914T200000Z
LOCATION:neues theater\,Große Ulrichstraße 51\,06108 Halle\,Germany
SUMMARY:Hofkonzert
URL:https://www.www.viertelpoet.de/index.php?option=com_jem&view=event&id=6
 8:hofkonzert
END:VEVENT
END:VCALENDAR
