BEGIN:VCALENDAR
VERSION:2.0
PRODID:-//85.13.147.204//NONSGML kigkonsult.se iCalcreator 2.20//
CALSCALE:GREGORIAN
METHOD:PUBLISH
X-WR-TIMEZONE:UTC
BEGIN:VEVENT
UID:event66@..:: Viertelpoet ::: rockig-frech lyrisch-liedhaft ::..
DTSTAMP:20260419T180921Z
CATEGORIES:Interview
DESCRIPTION:MDR Figaro meets Viertelpoet\nKategorie: Interview\nICS-Link: h
 ttps://www.www.viertelpoet.de/index.php?option=com_jem&view=event&id=66:md
 r-figaro-meets-viertelpoet\n
DTSTART:20130504T130000Z
DTEND:20130504T170000Z
LOCATION:MDR Figaro\,Gerberstraße 2\,06108 Halle\,Germany
SUMMARY:MDR Figaro meets Viertelpoet
URL:https://www.www.viertelpoet.de/index.php?option=com_jem&view=event&id=6
 6:mdr-figaro-meets-viertelpoet
END:VEVENT
END:VCALENDAR
