BEGIN:VCALENDAR
VERSION:2.0
PRODID:-//85.13.147.204//NONSGML kigkonsult.se iCalcreator 2.20//
CALSCALE:GREGORIAN
METHOD:PUBLISH
X-WR-TIMEZONE:UTC
BEGIN:VEVENT
UID:event44@..:: Viertelpoet ::: rockig-frech lyrisch-liedhaft ::..
DTSTAMP:20260419T162100Z
CATEGORIES:Konzert
DESCRIPTION:Valentinstag im Mahns Chateau\nKategorie: Konzert\nICS-Link: ht
 tps://www.www.viertelpoet.de/index.php?option=com_jem&view=event&id=44:val
 entinstag-im-chateau-a-co\n
DTSTART:20120214T190000Z
DTEND:20120214T190000Z
LOCATION:Mahns Chateau\,Olearusstr. 4a\,06108 Halle\,Germany
SUMMARY:Valentinstag im Mahns Chateau
URL:https://www.www.viertelpoet.de/index.php?option=com_jem&view=event&id=4
 4:valentinstag-im-chateau-a-co
END:VEVENT
BEGIN:VEVENT
UID:event47@..:: Viertelpoet ::: rockig-frech lyrisch-liedhaft ::..
DTSTAMP:20260419T162100Z
CATEGORIES:Konzert
DESCRIPTION:Viertelpoet in Mahns Chateau\nKategorie: Konzert\nICS-Link: htt
 ps://www.www.viertelpoet.de/index.php?option=com_jem&view=event&id=47:vier
 telpoet-im-mahns-chateau\n
DTSTART:20120609T183000Z
DTEND:20120609T183000Z
LOCATION:Mahns Chateau\,Olearusstr. 4a\,06108 Halle\,Germany
SUMMARY:Viertelpoet in Mahns Chateau
URL:https://www.www.viertelpoet.de/index.php?option=com_jem&view=event&id=4
 7:viertelpoet-im-mahns-chateau
END:VEVENT
END:VCALENDAR
