BEGIN:VCALENDAR
VERSION:2.0
PRODID:-//85.13.147.204//NONSGML kigkonsult.se iCalcreator 2.20//
CALSCALE:GREGORIAN
METHOD:PUBLISH
X-WR-TIMEZONE:UTC
BEGIN:VEVENT
UID:event43@..:: Viertelpoet ::: rockig-frech lyrisch-liedhaft ::..
DTSTAMP:20260419T183106Z
CATEGORIES:Konzert
DESCRIPTION:Weihnachtsmarkt in den Halleschen Behindertenwerkstätten\nKateg
 orie: Konzert\nICS-Link: https://www.www.viertelpoet.de/index.php?option=c
 om_jem&view=event&id=43:weihnachtsmarkt-in-den-halleschen-behindertenwerks
 taetten\n
DTSTART:20111125T180000Z
DTEND:20111125T200000Z
LOCATION:Hallesche Behindertenwerkstätten e.V.\,Blumenauweg 59\,06120 Halle
 \,Germany
SUMMARY:Weihnachtsmarkt in den Halleschen Behindertenwerkstätten
URL:https://www.www.viertelpoet.de/index.php?option=com_jem&view=event&id=4
 3:weihnachtsmarkt-in-den-halleschen-behindertenwerkstaetten
END:VEVENT
BEGIN:VEVENT
UID:event96@..:: Viertelpoet ::: rockig-frech lyrisch-liedhaft ::..
DTSTAMP:20260419T183106Z
CATEGORIES:Konzert
DESCRIPTION:Stadtvierteltour INKLUSIVE\nKategorie: Konzert\nICS-Link: https
 ://www.www.viertelpoet.de/index.php?option=com_jem&view=event&id=96:stadtv
 ierteltour-inklusive\n
DTSTART:20150926T160000Z
DTEND:20150926T160000Z
LOCATION:Hallesche Behindertenwerkstätten e.V.\,Blumenauweg 59\,06120 Halle
 \,Germany
SUMMARY:Stadtvierteltour INKLUSIVE
URL:https://www.www.viertelpoet.de/index.php?option=com_jem&view=event&id=9
 6:stadtvierteltour-inklusive
END:VEVENT
END:VCALENDAR
