BEGIN:VCALENDAR
VERSION:2.0
PRODID:-//85.13.147.204//NONSGML kigkonsult.se iCalcreator 2.20//
CALSCALE:GREGORIAN
METHOD:PUBLISH
X-WR-TIMEZONE:UTC
BEGIN:VEVENT
UID:event13@..:: Viertelpoet ::: rockig-frech lyrisch-liedhaft ::..
DTSTAMP:20260423T103248Z
CATEGORIES:Konzert
DESCRIPTION:Viertelpoet Open Air\nKategorie: Konzert\nICS-Link: https://www
 .www.viertelpoet.de/index.php?option=com_jem&view=event&id=13:viertelpoet-
 halleschen-brauhaus\n
DTSTART:20090514T200000Z
DTEND:20090514T200000Z
LOCATION:Hallesches Brauhaus\,Große Nikolaistraße 2\,06108 Halle\,Germany
SUMMARY:Viertelpoet Open Air
URL:https://www.www.viertelpoet.de/index.php?option=com_jem&view=event&id=1
 3:viertelpoet-halleschen-brauhaus
END:VEVENT
BEGIN:VEVENT
UID:event15@..:: Viertelpoet ::: rockig-frech lyrisch-liedhaft ::..
DTSTAMP:20260423T103248Z
CATEGORIES:Konzert
DESCRIPTION:Ein kühles Blondes mit Viertelpoet\nKategorie: Konzert\nICS-Lin
 k: https://www.www.viertelpoet.de/index.php?option=com_jem&view=event&id=1
 5:ein-kuehles-blondes-mit-viertelpoet\n
DTSTART:20090816T200000Z
DTEND:20090816T200000Z
LOCATION:Hallesches Brauhaus\,Große Nikolaistraße 2\,06108 Halle\,Germany
SUMMARY:Ein kühles Blondes mit Viertelpoet
URL:https://www.www.viertelpoet.de/index.php?option=com_jem&view=event&id=1
 5:ein-kuehles-blondes-mit-viertelpoet
END:VEVENT
BEGIN:VEVENT
UID:event23@..:: Viertelpoet ::: rockig-frech lyrisch-liedhaft ::..
DTSTAMP:20260423T103248Z
CATEGORIES:Konzert
DESCRIPTION:Viertelpoet im Brauhaus\nKategorie: Konzert\nICS-Link: https://
 www.www.viertelpoet.de/index.php?option=com_jem&view=event&id=23:viertelpo
 et-im-brauhaus\n
DTSTART:20100527T200000Z
DTEND:20100527T200000Z
LOCATION:Hallesches Brauhaus\,Große Nikolaistraße 2\,06108 Halle\,Germany
SUMMARY:Viertelpoet im Brauhaus
URL:https://www.www.viertelpoet.de/index.php?option=com_jem&view=event&id=2
 3:viertelpoet-im-brauhaus
END:VEVENT
BEGIN:VEVENT
UID:event34@..:: Viertelpoet ::: rockig-frech lyrisch-liedhaft ::..
DTSTAMP:20260423T103248Z
CATEGORIES:Konzert
DESCRIPTION:Viertelpoet im Brauhaus\nKategorie: Konzert\nICS-Link: https://
 www.www.viertelpoet.de/index.php?option=com_jem&view=event&id=34:viertelpo
 et-im-brauhaus\n
DTSTART:20110428T200000Z
DTEND:20110428T200000Z
LOCATION:Hallesches Brauhaus\,Große Nikolaistraße 2\,06108 Halle\,Germany
SUMMARY:Viertelpoet im Brauhaus
URL:https://www.www.viertelpoet.de/index.php?option=com_jem&view=event&id=3
 4:viertelpoet-im-brauhaus
END:VEVENT
BEGIN:VEVENT
UID:event35@..:: Viertelpoet ::: rockig-frech lyrisch-liedhaft ::..
DTSTAMP:20260423T103248Z
CATEGORIES:Konzert
DESCRIPTION:Fukushima-Single Release im Brauhaus\nKategorie: Konzert\nICS-L
 ink: https://www.www.viertelpoet.de/index.php?option=com_jem&view=event&id
 =35:viertelpoet-im-brauhaus\n
DTSTART:20110609T200000Z
DTEND:20110609T200000Z
LOCATION:Hallesches Brauhaus\,Große Nikolaistraße 2\,06108 Halle\,Germany
SUMMARY:Fukushima-Single Release im Brauhaus
URL:https://www.www.viertelpoet.de/index.php?option=com_jem&view=event&id=3
 5:viertelpoet-im-brauhaus
END:VEVENT
BEGIN:VEVENT
UID:event42@..:: Viertelpoet ::: rockig-frech lyrisch-liedhaft ::..
DTSTAMP:20260423T103248Z
CATEGORIES:Konzert
DESCRIPTION:Viertelpoet im Brauhaus\nKategorie: Konzert\nICS-Link: https://
 www.www.viertelpoet.de/index.php?option=com_jem&view=event&id=42:viertelpo
 et-im-brauhaus\n
DTSTART:20110929T200000Z
DTEND:20110929T200000Z
LOCATION:Hallesches Brauhaus\,Große Nikolaistraße 2\,06108 Halle\,Germany
SUMMARY:Viertelpoet im Brauhaus
URL:https://www.www.viertelpoet.de/index.php?option=com_jem&view=event&id=4
 2:viertelpoet-im-brauhaus
END:VEVENT
BEGIN:VEVENT
UID:event45@..:: Viertelpoet ::: rockig-frech lyrisch-liedhaft ::..
DTSTAMP:20260423T103248Z
CATEGORIES:Konzert
DESCRIPTION:Viertelpoet im Brauhaus\nKategorie: Konzert\nICS-Link: https://
 www.www.viertelpoet.de/index.php?option=com_jem&view=event&id=45:viertelpo
 et-im-brauhaus\n
DTSTART:20120426T200000Z
DTEND:20120426T200000Z
LOCATION:Hallesches Brauhaus\,Große Nikolaistraße 2\,06108 Halle\,Germany
SUMMARY:Viertelpoet im Brauhaus
URL:https://www.www.viertelpoet.de/index.php?option=com_jem&view=event&id=4
 5:viertelpoet-im-brauhaus
END:VEVENT
BEGIN:VEVENT
UID:event49@..:: Viertelpoet ::: rockig-frech lyrisch-liedhaft ::..
DTSTAMP:20260423T103248Z
CATEGORIES:Konzert
DESCRIPTION:Viertelpoet im Brauhaus\nKategorie: Konzert\nICS-Link: https://
 www.www.viertelpoet.de/index.php?option=com_jem&view=event&id=49:viertelpo
 et-im-brauhaus\n
DTSTART:20120621T200000Z
DTEND:20120621T200000Z
LOCATION:Hallesches Brauhaus\,Große Nikolaistraße 2\,06108 Halle\,Germany
SUMMARY:Viertelpoet im Brauhaus
URL:https://www.www.viertelpoet.de/index.php?option=com_jem&view=event&id=4
 9:viertelpoet-im-brauhaus
END:VEVENT
BEGIN:VEVENT
UID:event63@..:: Viertelpoet ::: rockig-frech lyrisch-liedhaft ::..
DTSTAMP:20260423T103248Z
CATEGORIES:Konzert
DESCRIPTION:Viertelpoetisches Flammkuchen-Bier im Brauhaus!\nKategorie: Kon
 zert\nICS-Link: https://www.www.viertelpoet.de/index.php?option=com_jem&vi
 ew=event&id=63:viertelpoetisches-flammkuchen-bier-im-brauhaus\n
DTSTART:20130523T200000Z
DTEND:20130523T200000Z
LOCATION:Hallesches Brauhaus\,Große Nikolaistraße 2\,06108 Halle\,Germany
SUMMARY:Viertelpoetisches Flammkuchen-Bier im Brauhaus!
URL:https://www.www.viertelpoet.de/index.php?option=com_jem&view=event&id=6
 3:viertelpoetisches-flammkuchen-bier-im-brauhaus
END:VEVENT
BEGIN:VEVENT
UID:event64@..:: Viertelpoet ::: rockig-frech lyrisch-liedhaft ::..
DTSTAMP:20260423T103248Z
CATEGORIES:Konzert
DESCRIPTION:Viertelpoetisches Brauhaus-Flammkuchenbier\nKategorie: Konzert
 \nICS-Link: https://www.www.viertelpoet.de/index.php?option=com_jem&view=e
 vent&id=64:viertelpoetisches-flammkuchen-bier-im-brauhaus\n
DTSTART:20130627T200000Z
DTEND:20130627T200000Z
LOCATION:Hallesches Brauhaus\,Große Nikolaistraße 2\,06108 Halle\,Germany
SUMMARY:Viertelpoetisches Brauhaus-Flammkuchenbier
URL:https://www.www.viertelpoet.de/index.php?option=com_jem&view=event&id=6
 4:viertelpoetisches-flammkuchen-bier-im-brauhaus
END:VEVENT
BEGIN:VEVENT
UID:event67@..:: Viertelpoet ::: rockig-frech lyrisch-liedhaft ::..
DTSTAMP:20260423T103248Z
CATEGORIES:Konzert
DESCRIPTION:Viertelpoet im Brauhaus\nKategorie: Konzert\nICS-Link: https://
 www.www.viertelpoet.de/index.php?option=com_jem&view=event&id=67:viertelpo
 et-im-brauhaus\n
DTSTART:20130912T200000Z
DTEND:20130912T200000Z
LOCATION:Hallesches Brauhaus\,Große Nikolaistraße 2\,06108 Halle\,Germany
SUMMARY:Viertelpoet im Brauhaus
URL:https://www.www.viertelpoet.de/index.php?option=com_jem&view=event&id=6
 7:viertelpoet-im-brauhaus
END:VEVENT
BEGIN:VEVENT
UID:event70@..:: Viertelpoet ::: rockig-frech lyrisch-liedhaft ::..
DTSTAMP:20260423T103248Z
CATEGORIES:Konzert
DESCRIPTION:Viertelpoetisches Flammkuchenbier im Brauhaus\nKategorie: Konze
 rt\nICS-Link: https://www.www.viertelpoet.de/index.php?option=com_jem&view
 =event&id=70:viertelpoetisches-flammkuchenbier-im-brauhaus\n
DTSTART:20131017T200000Z
DTEND:20131017T220000Z
LOCATION:Hallesches Brauhaus\,Große Nikolaistraße 2\,06108 Halle\,Germany
SUMMARY:Viertelpoetisches Flammkuchenbier im Brauhaus
URL:https://www.www.viertelpoet.de/index.php?option=com_jem&view=event&id=7
 0:viertelpoetisches-flammkuchenbier-im-brauhaus
END:VEVENT
BEGIN:VEVENT
UID:event72@..:: Viertelpoet ::: rockig-frech lyrisch-liedhaft ::..
DTSTAMP:20260423T103248Z
CATEGORIES:Konzert
DESCRIPTION:Viertelpoet im Brauhaus\nKategorie: Konzert\nICS-Link: https://
 www.www.viertelpoet.de/index.php?option=com_jem&view=event&id=72:viertelpo
 et-im-brauhaus\n
DTSTART:20140213T200000Z
DTEND:20140213T200000Z
LOCATION:Hallesches Brauhaus\,Große Nikolaistraße 2\,06108 Halle\,Germany
SUMMARY:Viertelpoet im Brauhaus
URL:https://www.www.viertelpoet.de/index.php?option=com_jem&view=event&id=7
 2:viertelpoet-im-brauhaus
END:VEVENT
BEGIN:VEVENT
UID:event76@..:: Viertelpoet ::: rockig-frech lyrisch-liedhaft ::..
DTSTAMP:20260423T103248Z
CATEGORIES:Konzert
DESCRIPTION:Flammkuchenbier im Brauhaus\nKategorie: Konzert\nICS-Link: http
 s://www.www.viertelpoet.de/index.php?option=com_jem&view=event&id=76:flamm
 kuchenbier-im-brauhaus\n
DTSTART:20140522T200000Z
DTEND:20140522T200000Z
LOCATION:Hallesches Brauhaus\,Große Nikolaistraße 2\,06108 Halle\,Germany
SUMMARY:Flammkuchenbier im Brauhaus
URL:https://www.www.viertelpoet.de/index.php?option=com_jem&view=event&id=7
 6:flammkuchenbier-im-brauhaus
END:VEVENT
BEGIN:VEVENT
UID:event82@..:: Viertelpoet ::: rockig-frech lyrisch-liedhaft ::..
DTSTAMP:20260423T103248Z
CATEGORIES:Konzert
DESCRIPTION:Release Party CD Seltsam sprachlos\nKategorie: Konzert\nICS-Lin
 k: https://www.www.viertelpoet.de/index.php?option=com_jem&view=event&id=8
 2:cd-release-party\n
DTSTART:20141016T190000Z
DTEND:20141016T190000Z
LOCATION:Hallesches Brauhaus\,Große Nikolaistraße 2\,06108 Halle\,Germany
SUMMARY:Release Party CD Seltsam sprachlos
URL:https://www.www.viertelpoet.de/index.php?option=com_jem&view=event&id=8
 2:cd-release-party
END:VEVENT
BEGIN:VEVENT
UID:event89@..:: Viertelpoet ::: rockig-frech lyrisch-liedhaft ::..
DTSTAMP:20260423T103248Z
CATEGORIES:Konzert
DESCRIPTION:Viertelpoetisches Flammkuchenbier\nKategorie: Konzert\nICS-Link
 : https://www.www.viertelpoet.de/index.php?option=com_jem&view=event&id=89
 :viertelpoetisches-flammkuchenbier\n
DTSTART:20150305T200000Z
DTEND:20150305T200000Z
LOCATION:Hallesches Brauhaus\,Große Nikolaistraße 2\,06108 Halle\,Germany
SUMMARY:Viertelpoetisches Flammkuchenbier
URL:https://www.www.viertelpoet.de/index.php?option=com_jem&view=event&id=8
 9:viertelpoetisches-flammkuchenbier
END:VEVENT
BEGIN:VEVENT
UID:event90@..:: Viertelpoet ::: rockig-frech lyrisch-liedhaft ::..
DTSTAMP:20260423T103248Z
CATEGORIES:Konzert
DESCRIPTION:VIERTELTANZ im Brauhaus\nKategorie: Konzert\nICS-Link: https://
 www.www.viertelpoet.de/index.php?option=com_jem&view=event&id=90:viertelpo
 etisches-flammkuchenbier\n
DTSTART:20150528T200000Z
DTEND:20150528T200000Z
LOCATION:Hallesches Brauhaus\,Große Nikolaistraße 2\,06108 Halle\,Germany
SUMMARY:VIERTELTANZ im Brauhaus
URL:https://www.www.viertelpoet.de/index.php?option=com_jem&view=event&id=9
 0:viertelpoetisches-flammkuchenbier
END:VEVENT
BEGIN:VEVENT
UID:event95@..:: Viertelpoet ::: rockig-frech lyrisch-liedhaft ::..
DTSTAMP:20260423T103248Z
CATEGORIES:Konzert
DESCRIPTION:Brauhausgeburtstag\nKategorie: Konzert\nICS-Link: https://www.w
 ww.viertelpoet.de/index.php?option=com_jem&view=event&id=95:brauhausgeburt
 stag\n
DTSTART:20150905T190000Z
DTEND:20150905T190000Z
LOCATION:Hallesches Brauhaus\,Große Nikolaistraße 2\,06108 Halle\,Germany
SUMMARY:Brauhausgeburtstag
URL:https://www.www.viertelpoet.de/index.php?option=com_jem&view=event&id=9
 5:brauhausgeburtstag
END:VEVENT
BEGIN:VEVENT
UID:event100@..:: Viertelpoet ::: rockig-frech lyrisch-liedhaft ::..
DTSTAMP:20260423T103248Z
CATEGORIES:Konzert
DESCRIPTION:Spontankonzert im Halleschen Brauhaus\nKategorie: Konzert\nICS-
 Link: https://www.www.viertelpoet.de/index.php?option=com_jem&view=event&i
 d=100:spontankonzert\n
DTSTART:20160317T200000Z
DTEND:20160317T200000Z
LOCATION:Hallesches Brauhaus\,Große Nikolaistraße 2\,06108 Halle\,Germany
SUMMARY:Spontankonzert im Halleschen Brauhaus
URL:https://www.www.viertelpoet.de/index.php?option=com_jem&view=event&id=1
 00:spontankonzert
END:VEVENT
BEGIN:VEVENT
UID:event110@..:: Viertelpoet ::: rockig-frech lyrisch-liedhaft ::..
DTSTAMP:20260423T103248Z
CATEGORIES:Konzert
DESCRIPTION:Viertelpoet im Brauhaus\nKategorie: Konzert\nICS-Link: https://
 www.www.viertelpoet.de/index.php?option=com_jem&view=event&id=110:viertelp
 oet-im-brauhaus\n
DTSTART:20160602T200000Z
DTEND:20160602T200000Z
LOCATION:Hallesches Brauhaus\,Große Nikolaistraße 2\,06108 Halle\,Germany
SUMMARY:Viertelpoet im Brauhaus
URL:https://www.www.viertelpoet.de/index.php?option=com_jem&view=event&id=1
 10:viertelpoet-im-brauhaus
END:VEVENT
BEGIN:VEVENT
UID:event106@..:: Viertelpoet ::: rockig-frech lyrisch-liedhaft ::..
DTSTAMP:20260423T103248Z
CATEGORIES:Konzert
DESCRIPTION:Viertelpoet im Brauhaus\nKategorie: Konzert\nICS-Link: https://
 www.www.viertelpoet.de/index.php?option=com_jem&view=event&id=106:viertelp
 oet-im-brauhaus\n
DTSTART:20170323T200000Z
DTEND:20170323T200000Z
LOCATION:Hallesches Brauhaus\,Große Nikolaistraße 2\,06108 Halle\,Germany
SUMMARY:Viertelpoet im Brauhaus
URL:https://www.www.viertelpoet.de/index.php?option=com_jem&view=event&id=1
 06:viertelpoet-im-brauhaus
END:VEVENT
BEGIN:VEVENT
UID:event114@..:: Viertelpoet ::: rockig-frech lyrisch-liedhaft ::..
DTSTAMP:20260423T103248Z
CATEGORIES:Konzert
DESCRIPTION:Viertelpoet im Brauhaus\nKategorie: Konzert\nICS-Link: https://
 www.www.viertelpoet.de/index.php?option=com_jem&view=event&id=114:viertelp
 oet-im-brauhaus\n
DTSTART:20170831T200000Z
DTEND:20170831T200000Z
LOCATION:Hallesches Brauhaus\,Große Nikolaistraße 2\,06108 Halle\,Germany
SUMMARY:Viertelpoet im Brauhaus
URL:https://www.www.viertelpoet.de/index.php?option=com_jem&view=event&id=1
 14:viertelpoet-im-brauhaus
END:VEVENT
BEGIN:VEVENT
UID:event111@..:: Viertelpoet ::: rockig-frech lyrisch-liedhaft ::..
DTSTAMP:20260423T103248Z
CATEGORIES:Konzert
DESCRIPTION:Viertelpoet im Brauhaus\nKategorie: Konzert\nICS-Link: https://
 www.www.viertelpoet.de/index.php?option=com_jem&view=event&id=111:viertelp
 oet-im-brauhaus\n
DTSTART:20180426T200000Z
DTEND:20180426T200000Z
LOCATION:Hallesches Brauhaus\,Große Nikolaistraße 2\,06108 Halle\,Germany
SUMMARY:Viertelpoet im Brauhaus
URL:https://www.www.viertelpoet.de/index.php?option=com_jem&view=event&id=1
 11:viertelpoet-im-brauhaus
END:VEVENT
BEGIN:VEVENT
UID:event115@..:: Viertelpoet ::: rockig-frech lyrisch-liedhaft ::..
DTSTAMP:20260423T103248Z
CATEGORIES:Konzert
DESCRIPTION:Viertelpoet im Brauhaus\nKategorie: Konzert\nICS-Link: https://
 www.www.viertelpoet.de/index.php?option=com_jem&view=event&id=115:viertelp
 oet-im-brauhaus\n
DTSTART:20180920T200000Z
DTEND:20180920T200000Z
LOCATION:Hallesches Brauhaus\,Große Nikolaistraße 2\,06108 Halle\,Germany
SUMMARY:Viertelpoet im Brauhaus
URL:https://www.www.viertelpoet.de/index.php?option=com_jem&view=event&id=1
 15:viertelpoet-im-brauhaus
END:VEVENT
BEGIN:VEVENT
UID:event123@..:: Viertelpoet ::: rockig-frech lyrisch-liedhaft ::..
DTSTAMP:20260423T103248Z
CATEGORIES:Konzert
DESCRIPTION:Viertelpoet mit Verstärkung\nKategorie: Konzert\nICS-Link: http
 s://www.www.viertelpoet.de/index.php?option=com_jem&view=event&id=123:vier
 telpoet-mit-verstaerkung\n
DTSTART:20200711T200000Z
DTEND:20200711T200000Z
LOCATION:Hallesches Brauhaus\,Große Nikolaistraße 2\,06108 Halle\,Germany
SUMMARY:Viertelpoet mit Verstärkung
URL:https://www.www.viertelpoet.de/index.php?option=com_jem&view=event&id=1
 23:viertelpoet-mit-verstaerkung
END:VEVENT
END:VCALENDAR
