BEGIN:VCALENDAR
VERSION:2.0
PRODID:-//85.13.147.204//NONSGML kigkonsult.se iCalcreator 2.20//
CALSCALE:GREGORIAN
METHOD:PUBLISH
X-WR-TIMEZONE:UTC
BEGIN:VEVENT
UID:event18@..:: Viertelpoet ::: rockig-frech lyrisch-liedhaft ::..
DTSTAMP:20260421T093149Z
CATEGORIES:Konzert
DESCRIPTION:Viertelpoet im HEP\nKategorie: Konzert\nICS-Link: https://www.w
 ww.viertelpoet.de/index.php?option=com_jem&view=event&id=18:viertelpoet-im
 -hep\n
DTSTART:20091031T110000Z
DTEND:20091031T150000Z
LOCATION:HEP Einkaufspark\,Leipziger Chaussee 147\,06112 Halle\,Germany
SUMMARY:Viertelpoet im HEP
URL:https://www.www.viertelpoet.de/index.php?option=com_jem&view=event&id=1
 8:viertelpoet-im-hep
END:VEVENT
END:VCALENDAR
