BEGIN:VCALENDAR
VERSION:2.0
PRODID:-//85.13.147.204//NONSGML kigkonsult.se iCalcreator 2.20//
CALSCALE:GREGORIAN
METHOD:PUBLISH
X-WR-TIMEZONE:UTC
BEGIN:VEVENT
UID:event94@..:: Viertelpoet ::: rockig-frech lyrisch-liedhaft ::..
DTSTAMP:20260419T164908Z
CATEGORIES:Konzert
DESCRIPTION:15. Nacht der Kirchen\nKategorie: Konzert\nICS-Link: https://ww
 w.www.viertelpoet.de/index.php?option=com_jem&view=event&id=94:15-nacht-de
 r-kirchen\n
DTSTART:20150815T200000Z
DTEND:20150815T200000Z
LOCATION:Pauluskirche\,Robert-Blum-Straße 11a\,06114 Halle
SUMMARY:15. Nacht der Kirchen
URL:https://www.www.viertelpoet.de/index.php?option=com_jem&view=event&id=9
 4:15-nacht-der-kirchen
END:VEVENT
END:VCALENDAR
