BEGIN:VCALENDAR
VERSION:2.0
PRODID:-//85.13.147.204//NONSGML kigkonsult.se iCalcreator 2.20//
CALSCALE:GREGORIAN
METHOD:PUBLISH
X-WR-TIMEZONE:UTC
BEGIN:VEVENT
UID:event91@..:: Viertelpoet ::: rockig-frech lyrisch-liedhaft ::..
DTSTAMP:20260419T150117Z
CATEGORIES:Konzert
DESCRIPTION:Viertelpoet im Sonnengarten - Stadtvierteltour: INKLUSIVE!\nKat
 egorie: Konzert\nICS-Link: https://www.www.viertelpoet.de/index.php?option
 =com_jem&view=event&id=91:viertelpoet-im-sonnengarten\n
DTSTART:20150626T180000Z
DTEND:20150626T180000Z
LOCATION:Neue Residenz\,Domstraße 5\,06108 Halle
SUMMARY:Viertelpoet im Sonnengarten - Stadtvierteltour: INKLUSIVE!
URL:https://www.www.viertelpoet.de/index.php?option=com_jem&view=event&id=9
 1:viertelpoet-im-sonnengarten
END:VEVENT
END:VCALENDAR
