BEGIN:VCALENDAR
VERSION:2.0
PRODID:-//85.13.147.204//NONSGML kigkonsult.se iCalcreator 2.20//
CALSCALE:GREGORIAN
METHOD:PUBLISH
X-WR-TIMEZONE:UTC
BEGIN:VEVENT
UID:event9@..:: Viertelpoet ::: rockig-frech lyrisch-liedhaft ::..
DTSTAMP:20260419T195351Z
CATEGORIES:Konzert
DESCRIPTION:Viertelpoet CD-Vorstellung im Saline Museum\nKategorie: Konzert
 \nICS-Link: https://www.www.viertelpoet.de/index.php?option=com_jem&view=e
 vent&id=9:viertelpoet-cd-vorstellung-im-saline-museum\n
DTSTART:20090402T190000Z
DTEND:20090402T190000Z
LOCATION:Saline Museum\,Mansfelder Straße 52\,06108 Halle
SUMMARY:Viertelpoet CD-Vorstellung im Saline Museum
URL:https://www.www.viertelpoet.de/index.php?option=com_jem&view=event&id=9
 :viertelpoet-cd-vorstellung-im-saline-museum
END:VEVENT
END:VCALENDAR
