BEGIN:VCALENDAR
VERSION:2.0
PRODID:-//85.13.147.204//NONSGML kigkonsult.se iCalcreator 2.20//
CALSCALE:GREGORIAN
METHOD:PUBLISH
X-WR-TIMEZONE:UTC
BEGIN:VEVENT
UID:event89@..:: Viertelpoet ::: rockig-frech lyrisch-liedhaft ::..
DTSTAMP:20260419T150200Z
CATEGORIES:Konzert
DESCRIPTION:Viertelpoetisches Flammkuchenbier\nKategorie: Konzert\nICS-Link
 : https://www.www.viertelpoet.de/index.php?option=com_jem&view=event&id=89
 :viertelpoetisches-flammkuchenbier\n
DTSTART:20150305T200000Z
DTEND:20150305T200000Z
LOCATION:Hallesches Brauhaus\,Große Nikolaistraße 2\,06108 Halle
SUMMARY:Viertelpoetisches Flammkuchenbier
URL:https://www.www.viertelpoet.de/index.php?option=com_jem&view=event&id=8
 9:viertelpoetisches-flammkuchenbier
END:VEVENT
END:VCALENDAR
