BEGIN:VCALENDAR
VERSION:2.0
PRODID:-//85.13.147.204//NONSGML kigkonsult.se iCalcreator 2.20//
CALSCALE:GREGORIAN
METHOD:PUBLISH
X-WR-TIMEZONE:UTC
BEGIN:VEVENT
UID:event82@..:: Viertelpoet ::: rockig-frech lyrisch-liedhaft ::..
DTSTAMP:20260419T131517Z
CATEGORIES:Konzert
DESCRIPTION:Release Party CD Seltsam sprachlos\nKategorie: Konzert\nICS-Lin
 k: https://www.www.viertelpoet.de/index.php?option=com_jem&view=event&id=8
 2:cd-release-party\n
DTSTART:20141016T190000Z
DTEND:20141016T190000Z
LOCATION:Hallesches Brauhaus\,Große Nikolaistraße 2\,06108 Halle
SUMMARY:Release Party CD Seltsam sprachlos
URL:https://www.www.viertelpoet.de/index.php?option=com_jem&view=event&id=8
 2:cd-release-party
END:VEVENT
END:VCALENDAR
