BEGIN:VCALENDAR
VERSION:2.0
PRODID:-//85.13.147.204//NONSGML kigkonsult.se iCalcreator 2.20//
CALSCALE:GREGORIAN
METHOD:PUBLISH
X-WR-TIMEZONE:UTC
BEGIN:VEVENT
UID:event79@..:: Viertelpoet ::: rockig-frech lyrisch-liedhaft ::..
DTSTAMP:20260419T145233Z
CATEGORIES:Konzert
DESCRIPTION:Abschlussveranstaltung Freiwilligentag\nKategorie: Konzert\nICS
 -Link: https://www.www.viertelpoet.de/index.php?option=com_jem&view=event&
 id=79:abschlussveranstaltung-freiwilligentag\n
DTSTART:20140913T190000Z
DTEND:20140913T190000Z
LOCATION:Saline Museum\,Mansfelder Straße 52\,06108 Halle
SUMMARY:Abschlussveranstaltung Freiwilligentag
URL:https://www.www.viertelpoet.de/index.php?option=com_jem&view=event&id=7
 9:abschlussveranstaltung-freiwilligentag
END:VEVENT
END:VCALENDAR
