BEGIN:VCALENDAR
VERSION:2.0
PRODID:-//85.13.147.204//NONSGML kigkonsult.se iCalcreator 2.20//
CALSCALE:GREGORIAN
METHOD:PUBLISH
X-WR-TIMEZONE:UTC
BEGIN:VEVENT
UID:event76@..:: Viertelpoet ::: rockig-frech lyrisch-liedhaft ::..
DTSTAMP:20260419T183410Z
CATEGORIES:Konzert
DESCRIPTION:Flammkuchenbier im Brauhaus\nKategorie: Konzert\nICS-Link: http
 s://www.www.viertelpoet.de/index.php?option=com_jem&view=event&id=76:flamm
 kuchenbier-im-brauhaus\n
DTSTART:20140522T200000Z
DTEND:20140522T200000Z
LOCATION:Hallesches Brauhaus\,Große Nikolaistraße 2\,06108 Halle
SUMMARY:Flammkuchenbier im Brauhaus
URL:https://www.www.viertelpoet.de/index.php?option=com_jem&view=event&id=7
 6:flammkuchenbier-im-brauhaus
END:VEVENT
END:VCALENDAR
