BEGIN:VCALENDAR
VERSION:2.0
PRODID:-//85.13.147.204//NONSGML kigkonsult.se iCalcreator 2.20//
CALSCALE:GREGORIAN
METHOD:PUBLISH
X-WR-TIMEZONE:UTC
BEGIN:VEVENT
UID:event75@..:: Viertelpoet ::: rockig-frech lyrisch-liedhaft ::..
DTSTAMP:20260419T201755Z
CATEGORIES:Konzert
DESCRIPTION:Seltsam sprachlos - Tour\nKategorie: Konzert\nICS-Link: https:/
 /www.www.viertelpoet.de/index.php?option=com_jem&view=event&id=75:viertelp
 oet-und-das-elfte-gebot\n
DTSTART:20141105T200000Z
DTEND:20141105T200000Z
LOCATION:Taverne Zum 11. Gebot\,Domplatz 21\,06618 Naumburg
SUMMARY:Seltsam sprachlos - Tour
URL:https://www.www.viertelpoet.de/index.php?option=com_jem&view=event&id=7
 5:viertelpoet-und-das-elfte-gebot
END:VEVENT
END:VCALENDAR
