BEGIN:VCALENDAR
VERSION:2.0
PRODID:-//85.13.147.204//NONSGML kigkonsult.se iCalcreator 2.20//
CALSCALE:GREGORIAN
METHOD:PUBLISH
X-WR-TIMEZONE:UTC
BEGIN:VEVENT
UID:event69@..:: Viertelpoet ::: rockig-frech lyrisch-liedhaft ::..
DTSTAMP:20260419T145503Z
CATEGORIES:Konzert
DESCRIPTION:Viertelpoetisches im MoritzKunstCafé\nKategorie: Konzert\nICS-L
 ink: https://www.www.viertelpoet.de/index.php?option=com_jem&view=event&id
 =69:viertelpoetisches-im-moritzkunstcafe\n
DTSTART:20130928T200000Z
DTEND:20130928T230000Z
LOCATION:MoritzKunstCafé\,Friedemann-Bach-Platz 5\,06108 Halle
SUMMARY:Viertelpoetisches im MoritzKunstCafé
URL:https://www.www.viertelpoet.de/index.php?option=com_jem&view=event&id=6
 9:viertelpoetisches-im-moritzkunstcafe
END:VEVENT
END:VCALENDAR
