BEGIN:VCALENDAR
VERSION:2.0
PRODID:-//85.13.147.204//NONSGML kigkonsult.se iCalcreator 2.20//
CALSCALE:GREGORIAN
METHOD:PUBLISH
X-WR-TIMEZONE:UTC
BEGIN:VEVENT
UID:event65@..:: Viertelpoet ::: rockig-frech lyrisch-liedhaft ::..
DTSTAMP:20260419T150318Z
CATEGORIES:Konzert
DESCRIPTION:Mixed in concert (Viertelpoet und St. Briccius- Chor)\nKategori
 e: Konzert\nICS-Link: https://www.www.viertelpoet.de/index.php?option=com_
 jem&view=event&id=65:viertelpoet-in-der-neuen-residenz\n
DTSTART:20130709T190000Z
DTEND:20130709T190000Z
LOCATION:Neue Residenz\,Domstraße 5\,06108 Halle
SUMMARY:Mixed in concert (Viertelpoet und St. Briccius- Chor)
URL:https://www.www.viertelpoet.de/index.php?option=com_jem&view=event&id=6
 5:viertelpoet-in-der-neuen-residenz
END:VEVENT
END:VCALENDAR
