BEGIN:VCALENDAR
VERSION:2.0
PRODID:-//85.13.147.204//NONSGML kigkonsult.se iCalcreator 2.20//
CALSCALE:GREGORIAN
METHOD:PUBLISH
X-WR-TIMEZONE:UTC
BEGIN:VEVENT
UID:event62@..:: Viertelpoet ::: rockig-frech lyrisch-liedhaft ::..
DTSTAMP:20260419T162515Z
CATEGORIES:Konzert
DESCRIPTION:Viertelpoet in der Lounge 57\nKategorie: Konzert\nICS-Link: htt
 ps://www.www.viertelpoet.de/index.php?option=com_jem&view=event&id=62:vier
 telpoet-in-der-lounge-57\n
DTSTART:20130424T193000Z
DTEND:20130424T193000Z
LOCATION:Lounge 57\,Geiststraße 57\,06108 Halle
SUMMARY:Viertelpoet in der Lounge 57
URL:https://www.www.viertelpoet.de/index.php?option=com_jem&view=event&id=6
 2:viertelpoet-in-der-lounge-57
END:VEVENT
END:VCALENDAR
