BEGIN:VCALENDAR
VERSION:2.0
PRODID:-//85.13.147.204//NONSGML kigkonsult.se iCalcreator 2.20//
CALSCALE:GREGORIAN
METHOD:PUBLISH
X-WR-TIMEZONE:UTC
BEGIN:VEVENT
UID:event60@..:: Viertelpoet ::: rockig-frech lyrisch-liedhaft ::..
DTSTAMP:20260419T165246Z
CATEGORIES:Interview
DESCRIPTION:Viertelpoet bei Radio Corax\nKategorie: Interview\nICS-Link: ht
 tps://www.www.viertelpoet.de/index.php?option=com_jem&view=event&id=60:vie
 rtelpoet-bei-radio-corax\n
DTSTART:20130411T210000Z
DTEND:20130411T210000Z
LOCATION:Radio Corax\,Unterberg 11\,06108 Halle
SUMMARY:Viertelpoet bei Radio Corax
URL:https://www.www.viertelpoet.de/index.php?option=com_jem&view=event&id=6
 0:viertelpoet-bei-radio-corax
END:VEVENT
END:VCALENDAR
