BEGIN:VCALENDAR
VERSION:2.0
PRODID:-//85.13.147.204//NONSGML kigkonsult.se iCalcreator 2.20//
CALSCALE:GREGORIAN
METHOD:PUBLISH
X-WR-TIMEZONE:UTC
BEGIN:VEVENT
UID:event59@..:: Viertelpoet ::: rockig-frech lyrisch-liedhaft ::..
DTSTAMP:20260419T145637Z
CATEGORIES:Konzert
DESCRIPTION:Viertelpoet taucht auf im Halleschen Stadtbad\nKategorie: Konze
 rt\nICS-Link: https://www.www.viertelpoet.de/index.php?option=com_jem&view
 =event&id=59:viertelpoet-taucht-auf-im-halleschen-stadtbad\n
DTSTART:20130216T163000Z
DTEND:20130216T163000Z
LOCATION:Schwimmhalle Stadtbad\,Schimmelstraße 1\,06108 Halle
SUMMARY:Viertelpoet taucht auf im Halleschen Stadtbad
URL:https://www.www.viertelpoet.de/index.php?option=com_jem&view=event&id=5
 9:viertelpoet-taucht-auf-im-halleschen-stadtbad
END:VEVENT
END:VCALENDAR
