BEGIN:VCALENDAR
VERSION:2.0
PRODID:-//85.13.147.204//NONSGML kigkonsult.se iCalcreator 2.20//
CALSCALE:GREGORIAN
METHOD:PUBLISH
X-WR-TIMEZONE:UTC
BEGIN:VEVENT
UID:event57@..:: Viertelpoet ::: rockig-frech lyrisch-liedhaft ::..
DTSTAMP:20260419T145610Z
CATEGORIES:Konzert
DESCRIPTION:Viertelpoet im Thalia Theater\nKategorie: Konzert\nICS-Link: ht
 tps://www.www.viertelpoet.de/index.php?option=com_jem&view=event&id=57:vie
 rtelpoet-im-thalia-theater\n
DTSTART:20130122T180000Z
DTEND:20130122T180000Z
LOCATION:Thalia Theater\,Kardinal-Albrecht-Straße 6\,06108 Halle
SUMMARY:Viertelpoet im Thalia Theater
URL:https://www.www.viertelpoet.de/index.php?option=com_jem&view=event&id=5
 7:viertelpoet-im-thalia-theater
END:VEVENT
END:VCALENDAR
