BEGIN:VCALENDAR
VERSION:2.0
PRODID:-//85.13.147.204//NONSGML kigkonsult.se iCalcreator 2.20//
CALSCALE:GREGORIAN
METHOD:PUBLISH
X-WR-TIMEZONE:UTC
BEGIN:VEVENT
UID:event56@..:: Viertelpoet ::: rockig-frech lyrisch-liedhaft ::..
DTSTAMP:20260419T163510Z
CATEGORIES:Konzert
DESCRIPTION:Viertelpoet in der Goldenen Rose\nKategorie: Konzert\nICS-Link:
  https://www.www.viertelpoet.de/index.php?option=com_jem&view=event&id=56:
 viertelpoet-in-der-goldenen-rose\n
DTSTART:20121209T170000Z
DTEND:20121209T170000Z
LOCATION:Goldene Rose\,Rannische Straße 19\,06108 Halle
SUMMARY:Viertelpoet in der Goldenen Rose
URL:https://www.www.viertelpoet.de/index.php?option=com_jem&view=event&id=5
 6:viertelpoet-in-der-goldenen-rose
END:VEVENT
END:VCALENDAR
