BEGIN:VCALENDAR
VERSION:2.0
PRODID:-//85.13.147.204//NONSGML kigkonsult.se iCalcreator 2.20//
CALSCALE:GREGORIAN
METHOD:PUBLISH
X-WR-TIMEZONE:UTC
BEGIN:VEVENT
UID:event52@..:: Viertelpoet ::: rockig-frech lyrisch-liedhaft ::..
DTSTAMP:20260419T195018Z
CATEGORIES:Konzert
DESCRIPTION:Salzfest mit Viertelpoet\nKategorie: Konzert\nICS-Link: https:/
 /www.www.viertelpoet.de/index.php?option=com_jem&view=event&id=52:salzfest
 -mit-viertelpoet\n
DTSTART:20120922T110000Z
DTEND:20120922T170000Z
LOCATION:Saline Museum\,Mansfelder Straße 52\,06108 Halle
SUMMARY:Salzfest mit Viertelpoet
URL:https://www.www.viertelpoet.de/index.php?option=com_jem&view=event&id=5
 2:salzfest-mit-viertelpoet
END:VEVENT
END:VCALENDAR
