BEGIN:VCALENDAR
VERSION:2.0
PRODID:-//85.13.147.204//NONSGML kigkonsult.se iCalcreator 2.20//
CALSCALE:GREGORIAN
METHOD:PUBLISH
X-WR-TIMEZONE:UTC
BEGIN:VEVENT
UID:event41@..:: Viertelpoet ::: rockig-frech lyrisch-liedhaft ::..
DTSTAMP:20260421T082833Z
CATEGORIES:Konzert
DESCRIPTION:Viertelpoet auf dem Halleschen Marktplatz\nKategorie: Konzert\n
 ICS-Link: https://www.www.viertelpoet.de/index.php?option=com_jem&view=eve
 nt&id=41:viertelpoet-auf-dem-halleschen-marktplatz\n
DTSTART:20110928T170000Z
DTEND:20110928T170000Z
LOCATION:Markt\, Halle\,Marktplatz\,06108 Halle
SUMMARY:Viertelpoet auf dem Halleschen Marktplatz
URL:https://www.www.viertelpoet.de/index.php?option=com_jem&view=event&id=4
 1:viertelpoet-auf-dem-halleschen-marktplatz
END:VEVENT
END:VCALENDAR
