BEGIN:VCALENDAR
VERSION:2.0
PRODID:-//85.13.147.204//NONSGML kigkonsult.se iCalcreator 2.20//
CALSCALE:GREGORIAN
METHOD:PUBLISH
X-WR-TIMEZONE:UTC
BEGIN:VEVENT
UID:event39@..:: Viertelpoet ::: rockig-frech lyrisch-liedhaft ::..
DTSTAMP:20260419T162643Z
CATEGORIES:Konzert
DESCRIPTION:Benefiz- Konzert im Krokoseum\nKategorie: Konzert\nICS-Link: ht
 tps://www.www.viertelpoet.de/index.php?option=com_jem&view=event&id=39:ben
 efiz-konzert-im-krokoseum\n
DTSTART:20111007T160000Z
DTEND:20111007T160000Z
LOCATION:Krokoseum\,Franckeplatz 1\,06110 Halle
SUMMARY:Benefiz- Konzert im Krokoseum
URL:https://www.www.viertelpoet.de/index.php?option=com_jem&view=event&id=3
 9:benefiz-konzert-im-krokoseum
END:VEVENT
END:VCALENDAR
