BEGIN:VCALENDAR
VERSION:2.0
PRODID:-//85.13.147.204//NONSGML kigkonsult.se iCalcreator 2.20//
CALSCALE:GREGORIAN
METHOD:PUBLISH
X-WR-TIMEZONE:UTC
BEGIN:VEVENT
UID:event28@..:: Viertelpoet ::: rockig-frech lyrisch-liedhaft ::..
DTSTAMP:20260419T162704Z
CATEGORIES:Konzert
DESCRIPTION:Musikalische Lesung mit Viertelpoet\nKategorie: Konzert\nICS-Li
 nk: https://www.www.viertelpoet.de/index.php?option=com_jem&view=event&id=
 28:musikalische-lesung-mit-viertelpoet\n
DTSTART:20101116T190000Z
DTEND:20101116T190000Z
LOCATION:Chateau & Co\,Am Kirchtor 27\,06108 Halle
SUMMARY:Musikalische Lesung mit Viertelpoet
URL:https://www.www.viertelpoet.de/index.php?option=com_jem&view=event&id=2
 8:musikalische-lesung-mit-viertelpoet
END:VEVENT
END:VCALENDAR
