BEGIN:VCALENDAR
VERSION:2.0
PRODID:-//85.13.147.204//NONSGML kigkonsult.se iCalcreator 2.20//
CALSCALE:GREGORIAN
METHOD:PUBLISH
X-WR-TIMEZONE:UTC
BEGIN:VEVENT
UID:event22@..:: Viertelpoet ::: rockig-frech lyrisch-liedhaft ::..
DTSTAMP:20260419T163241Z
CATEGORIES:Konzert
DESCRIPTION:Viertelpoet in der Burse zur Tulpe\nKategorie: Konzert\nICS-Lin
 k: https://www.www.viertelpoet.de/index.php?option=com_jem&view=event&id=2
 2:viertelpoet-in-der-burse-zur-tulpe\n
DTSTART:20100617T203000Z
DTEND:20100617T203000Z
LOCATION:Burse zur Tulpe\,Universitätsring 5\,06108 Halle
SUMMARY:Viertelpoet in der Burse zur Tulpe
URL:https://www.www.viertelpoet.de/index.php?option=com_jem&view=event&id=2
 2:viertelpoet-in-der-burse-zur-tulpe
END:VEVENT
END:VCALENDAR
