BEGIN:VCALENDAR
VERSION:2.0
PRODID:-//85.13.147.204//NONSGML kigkonsult.se iCalcreator 2.20//
CALSCALE:GREGORIAN
METHOD:PUBLISH
X-WR-TIMEZONE:UTC
BEGIN:VEVENT
UID:event15@..:: Viertelpoet ::: rockig-frech lyrisch-liedhaft ::..
DTSTAMP:20260419T183351Z
CATEGORIES:Konzert
DESCRIPTION:Ein kühles Blondes mit Viertelpoet\nKategorie: Konzert\nICS-Lin
 k: https://www.www.viertelpoet.de/index.php?option=com_jem&view=event&id=1
 5:ein-kuehles-blondes-mit-viertelpoet\n
DTSTART:20090816T200000Z
DTEND:20090816T200000Z
LOCATION:Hallesches Brauhaus\,Große Nikolaistraße 2\,06108 Halle
SUMMARY:Ein kühles Blondes mit Viertelpoet
URL:https://www.www.viertelpoet.de/index.php?option=com_jem&view=event&id=1
 5:ein-kuehles-blondes-mit-viertelpoet
END:VEVENT
END:VCALENDAR
