BEGIN:VCALENDAR
VERSION:2.0
PRODID:-//85.13.147.204//NONSGML kigkonsult.se iCalcreator 2.20//
CALSCALE:GREGORIAN
METHOD:PUBLISH
X-WR-TIMEZONE:UTC
BEGIN:VEVENT
UID:event14@..:: Viertelpoet ::: rockig-frech lyrisch-liedhaft ::..
DTSTAMP:20260419T162556Z
CATEGORIES:Konzert
DESCRIPTION:Kultursommertage mit Viertelpoet\nKategorie: Konzert\nICS-Link:
  https://www.www.viertelpoet.de/index.php?option=com_jem&view=event&id=14:
 kultursommertage-mit-viertelpoet\n
DTSTART:20090605T210000Z
DTEND:20090605T210000Z
LOCATION:Am Peißnitzshaus\,Peißnitzinsel 4\,06108 Halle
SUMMARY:Kultursommertage mit Viertelpoet
URL:https://www.www.viertelpoet.de/index.php?option=com_jem&view=event&id=1
 4:kultursommertage-mit-viertelpoet
END:VEVENT
END:VCALENDAR
