BEGIN:VCALENDAR
VERSION:2.0
PRODID:-//85.13.147.204//NONSGML kigkonsult.se iCalcreator 2.20//
CALSCALE:GREGORIAN
METHOD:PUBLISH
X-WR-TIMEZONE:UTC
BEGIN:VEVENT
UID:event130@..:: Viertelpoet ::: rockig-frech lyrisch-liedhaft ::..
DTSTAMP:20260419T181218Z
CATEGORIES:Konzert
DESCRIPTION:Im Sommer nach 8\nKategorie: Konzert\nICS-Link: https://www.www
 .viertelpoet.de/index.php?option=com_jem&view=event&id=130:im-sommer-nach-
 8\n
DTSTART:20240801T200000Z
DTEND:20240801T220000Z
LOCATION:Markt\, Halle\,Marktplatz\,06108 Halle
SUMMARY:Im Sommer nach 8
URL:https://www.www.viertelpoet.de/index.php?option=com_jem&view=event&id=1
 30:im-sommer-nach-8
END:VEVENT
END:VCALENDAR
