BEGIN:VCALENDAR
VERSION:2.0
PRODID:-//85.13.147.204//NONSGML kigkonsult.se iCalcreator 2.20//
CALSCALE:GREGORIAN
METHOD:PUBLISH
X-WR-TIMEZONE:UTC
BEGIN:VEVENT
UID:event13@..:: Viertelpoet ::: rockig-frech lyrisch-liedhaft ::..
DTSTAMP:20260421T093300Z
CATEGORIES:Konzert
DESCRIPTION:Viertelpoet Open Air\nKategorie: Konzert\nICS-Link: https://www
 .www.viertelpoet.de/index.php?option=com_jem&view=event&id=13:viertelpoet-
 halleschen-brauhaus\n
DTSTART:20090514T200000Z
DTEND:20090514T200000Z
LOCATION:Hallesches Brauhaus\,Große Nikolaistraße 2\,06108 Halle
SUMMARY:Viertelpoet Open Air
URL:https://www.www.viertelpoet.de/index.php?option=com_jem&view=event&id=1
 3:viertelpoet-halleschen-brauhaus
END:VEVENT
END:VCALENDAR
