BEGIN:VCALENDAR
VERSION:2.0
PRODID:-//85.13.147.204//NONSGML kigkonsult.se iCalcreator 2.20//
CALSCALE:GREGORIAN
METHOD:PUBLISH
X-WR-TIMEZONE:UTC
BEGIN:VEVENT
UID:event122@..:: Viertelpoet ::: rockig-frech lyrisch-liedhaft ::..
DTSTAMP:20260421T080727Z
CATEGORIES:Konzert
DESCRIPTION:Viertelpoet am Alten Markt\nKategorie: Konzert\nICS-Link: https
 ://www.www.viertelpoet.de/index.php?option=com_jem&view=event&id=122:viert
 elpoet-am-alten-markt\n
DTSTART:20191220T190000Z
DTEND:20191220T190000Z
LOCATION:Alter Markt\,Alter Markt\,06108 Halle
SUMMARY:Viertelpoet am Alten Markt
URL:https://www.www.viertelpoet.de/index.php?option=com_jem&view=event&id=1
 22:viertelpoet-am-alten-markt
END:VEVENT
END:VCALENDAR
