BEGIN:VCALENDAR
VERSION:2.0
PRODID:-//85.13.147.204//NONSGML kigkonsult.se iCalcreator 2.20//
CALSCALE:GREGORIAN
METHOD:PUBLISH
X-WR-TIMEZONE:UTC
BEGIN:VEVENT
UID:event119@..:: Viertelpoet ::: rockig-frech lyrisch-liedhaft ::..
DTSTAMP:20260419T165217Z
CATEGORIES:Konzert
DESCRIPTION:Premiere - Erstes Rockkonzert nach 103 Jahren\nKategorie: Konze
 rt\nICS-Link: https://www.www.viertelpoet.de/index.php?option=com_jem&view
 =event&id=119:premiere-erstes-rockkonzert-nach-103-jahren\n
DTSTART:20190309T180000Z
DTEND:20190309T180000Z
LOCATION:Schwimmhalle Stadtbad\,Schimmelstraße 1\,06108 Halle
SUMMARY:Premiere - Erstes Rockkonzert nach 103 Jahren
URL:https://www.www.viertelpoet.de/index.php?option=com_jem&view=event&id=1
 19:premiere-erstes-rockkonzert-nach-103-jahren
END:VEVENT
END:VCALENDAR
