BEGIN:VCALENDAR
VERSION:2.0
PRODID:-//85.13.147.204//NONSGML kigkonsult.se iCalcreator 2.20//
CALSCALE:GREGORIAN
METHOD:PUBLISH
X-WR-TIMEZONE:UTC
BEGIN:VEVENT
UID:event118@..:: Viertelpoet ::: rockig-frech lyrisch-liedhaft ::..
DTSTAMP:20260419T164743Z
CATEGORIES:Konzert
DESCRIPTION:Jahresendkonzert\nKategorie: Konzert\nICS-Link: https://www.www
 .viertelpoet.de/index.php?option=com_jem&view=event&id=118:jahresendkonzer
 t\n
DTSTART:20181207T193000Z
DTEND:20181207T193000Z
LOCATION:Alter Markt\,Alter Markt\,06108 Halle
SUMMARY:Jahresendkonzert
URL:https://www.www.viertelpoet.de/index.php?option=com_jem&view=event&id=1
 18:jahresendkonzert
END:VEVENT
END:VCALENDAR
