BEGIN:VCALENDAR
VERSION:2.0
PRODID:-//85.13.147.204//NONSGML kigkonsult.se iCalcreator 2.20//
CALSCALE:GREGORIAN
METHOD:PUBLISH
X-WR-TIMEZONE:UTC
BEGIN:VEVENT
UID:event111@..:: Viertelpoet ::: rockig-frech lyrisch-liedhaft ::..
DTSTAMP:20260419T132423Z
CATEGORIES:Konzert
DESCRIPTION:Viertelpoet im Brauhaus\nKategorie: Konzert\nICS-Link: https://
 www.www.viertelpoet.de/index.php?option=com_jem&view=event&id=111:viertelp
 oet-im-brauhaus\n
DTSTART:20180426T200000Z
DTEND:20180426T200000Z
LOCATION:Hallesches Brauhaus\,Große Nikolaistraße 2\,06108 Halle
SUMMARY:Viertelpoet im Brauhaus
URL:https://www.www.viertelpoet.de/index.php?option=com_jem&view=event&id=1
 11:viertelpoet-im-brauhaus
END:VEVENT
END:VCALENDAR
