BEGIN:VCALENDAR
VERSION:2.0
PRODID:-//85.13.147.204//NONSGML kigkonsult.se iCalcreator 2.20//
CALSCALE:GREGORIAN
METHOD:PUBLISH
X-WR-TIMEZONE:UTC
BEGIN:VEVENT
UID:event103@..:: Viertelpoet ::: rockig-frech lyrisch-liedhaft ::..
DTSTAMP:20260419T183326Z
CATEGORIES:Konzert
DESCRIPTION:Stadtvierteltour INKLUSIVE\nKategorie: Konzert\nICS-Link: https
 ://www.www.viertelpoet.de/index.php?option=com_jem&view=event&id=103:stadt
 vierteltour-inklusive\n
DTSTART:20160610T100000Z
DTEND:20160610T100000Z
LOCATION:Opernhaus\,Universitätsring 24\,06108 Halle
SUMMARY:Stadtvierteltour INKLUSIVE
URL:https://www.www.viertelpoet.de/index.php?option=com_jem&view=event&id=1
 03:stadtvierteltour-inklusive
END:VEVENT
END:VCALENDAR
