BEGIN:VCALENDAR
VERSION:2.0
PRODID:-//85.13.147.204//NONSGML kigkonsult.se iCalcreator 2.20//
CALSCALE:GREGORIAN
METHOD:PUBLISH
X-WR-TIMEZONE:UTC
BEGIN:VEVENT
UID:event102@..:: Viertelpoet ::: rockig-frech lyrisch-liedhaft ::..
DTSTAMP:20260421T092604Z
CATEGORIES:Konzert
DESCRIPTION:Dankeschön - Konzert\nKategorie: Konzert\nICS-Link: https://www
 .www.viertelpoet.de/index.php?option=com_jem&view=event&id=102:dankeschoen
 -konzert\n
DTSTART:20160409T155000Z
DTEND:20160409T155000Z
LOCATION:Markt\, Halle\,Marktplatz\,06108 Halle
SUMMARY:Dankeschön - Konzert
URL:https://www.www.viertelpoet.de/index.php?option=com_jem&view=event&id=1
 02:dankeschoen-konzert
END:VEVENT
END:VCALENDAR
