BEGIN:VCALENDAR
VERSION:2.0
PRODID:-//85.13.147.204//NONSGML kigkonsult.se iCalcreator 2.20//
CALSCALE:GREGORIAN
METHOD:PUBLISH
X-WR-TIMEZONE:UTC
BEGIN:VEVENT
UID:event100@..:: Viertelpoet ::: rockig-frech lyrisch-liedhaft ::..
DTSTAMP:20260419T131541Z
CATEGORIES:Konzert
DESCRIPTION:Spontankonzert im Halleschen Brauhaus\nKategorie: Konzert\nICS-
 Link: https://www.www.viertelpoet.de/index.php?option=com_jem&view=event&i
 d=100:spontankonzert\n
DTSTART:20160317T200000Z
DTEND:20160317T200000Z
LOCATION:Hallesches Brauhaus\,Große Nikolaistraße 2\,06108 Halle
SUMMARY:Spontankonzert im Halleschen Brauhaus
URL:https://www.www.viertelpoet.de/index.php?option=com_jem&view=event&id=1
 00:spontankonzert
END:VEVENT
END:VCALENDAR
